BEGIN:VCALENDAR
VERSION:2.0
PRODID:-//ChamberMaster//Event Calendar 2.0//EN
METHOD:PUBLISH
X-PUBLISHED-TTL:P1H
REFRESH-INTERVAL:P1H
CALSCALE:GREGORIAN
BEGIN:VTIMEZONE
TZID:America/Los_Angeles
BEGIN:DAYLIGHT
RRULE:FREQ=YEARLY;BYMONTH=3;BYDAY=2SU
DTSTART:20070101T000000
TZOFFSETFROM:-0800
TZOFFSETTO:-0700
TZNAME:Pacific Daylight Time
END:DAYLIGHT
BEGIN:STANDARD
RRULE:FREQ=YEARLY;BYMONTH=11;BYDAY=1SU
DTSTART:20070101T000000
TZOFFSETFROM:-0700
TZOFFSETTO:-0800
TZNAME:Pacific Standard Time
END:STANDARD
END:VTIMEZONE
BEGIN:VEVENT
DTSTART;TZID=America/Los_Angeles:20260505T130000
DTEND;TZID=America/Los_Angeles:20260505T140000
X-MICROSOFT-CDO-ALLDAYEVENT:FALSE
SUMMARY:Business Ownership Decoded: Independent vs. Franchise Models Webinar
DESCRIPTION:Are you curious whether franchising could be the right path to business ownership? Most people think of McDonald's\, but food represents only about a third of franchises in the U.S. The other two-thirds span automotive\, home services\, senior care\, pet services\, children's programs\, health and wellness\, and dozens more. This presentation offers a practical overview of how the franchise model works in the real world and what it takes to invest in and operate one successfully. Attendees will learn what to consider before moving forward\, including costs\, personal fit\, operational expectations\, long-term goals\, and common risks to watch for. Join us to gain a clearer foundation\, ask smarter questions\, and decide whether franchising is the right next step for you.\n \nPresented by Alan Regala\, founder of Athlete to Owner Franchise Coaching. After building and selling a multi-million-dollar ShelfGenie franchise\, he now helps aspiring entrepreneurs pursue franchise ownership and hosts The Franchise Champion Show podcast\, while his franchise matching service pairs clients with opportunities based on their skills\, interests\, goals\, and investment level.
X-ALT-DESC;FMTTYPE=text/html:Are you curious whether franchising could be the right path to business ownership? Most people think of McDonald's\, but food represents only about a third of franchises in the U.S. The other two-thirds span automotive\, home services\, senior care\, pet services\, children's programs\, health and wellness\, and dozens more. This presentation offers a practical overview of how the franchise model works in the real world and what it takes to invest in and operate one successfully. Attendees will learn what to consider before moving forward\, including costs\, personal fit\, operational expectations\, long-term goals\, and common risks to watch for. Join us to gain a clearer foundation\, ask smarter questions\, and decide whether franchising is the right next step for you.\n \nPresented by Alan Regala\, founder of Athlete to Owner Franchise Coaching. After building and selling a multi-million-dollar ShelfGenie franchise\, he now helps aspiring entrepreneurs pursue franchise ownership and hosts The Franchise Champion Show podcast\, while his franchise matching service pairs clients with opportunities based on their skills\, interests\, goals\, and investment level.
LOCATION:WA
UID:e.2434.1447550
SEQUENCE:3
DTSTAMP:20260421T064013Z
URL:https://business.skamania.org/events/Details/business-ownership-decoded-independent-vs-franchise-models-webinar-1714491?sourceTypeId=Hub
END:VEVENT
END:VCALENDAR
